BEGIN:VCALENDAR
VERSION:2.0
PRODID:-//wp-events-plugin.com//7.2.3.1//EN
BEGIN:VEVENT
UID:125@gravity.physik.fau.de
DTSTART;TZID=Europe/Berlin:20250819T131500
DTEND;TZID=Europe/Berlin:20250819T141500
DTSTAMP:20250811T114236Z
URL:https://www.gravity.physik.fau.de/events/decoherence-model-in-quantum-
 cosmology-kulyabin-alexander-master-defense/
SUMMARY:Decoherence Model in Quantum Cosmology (Kulyabin\, Alexander\, Mast
 er defense)
DESCRIPTION:
CATEGORIES:Group Seminar
END:VEVENT
BEGIN:VTIMEZONE
TZID:Europe/Berlin
X-LIC-LOCATION:Europe/Berlin
BEGIN:DAYLIGHT
DTSTART:20250330T030000
TZOFFSETFROM:+0100
TZOFFSETTO:+0200
TZNAME:CEST
END:DAYLIGHT
END:VTIMEZONE
END:VCALENDAR