BEGIN:VCALENDAR
VERSION:2.0
PRODID:-//wp-events-plugin.com//7.2.3.1//EN
BEGIN:VEVENT
UID:46@gravity.physik.fau.de
DTSTART;TZID=Europe/Berlin:20230510T100000
DTEND;TZID=Europe/Berlin:20230510T120000
DTSTAMP:20230508T083908Z
URL:https://www.gravity.physik.fau.de/events/mini-course-on-spin-foams-pro
 f-muxin-han-florida-atlantic-university-2/
SUMMARY:Mini Course on Spin Foams (Prof. Muxin Han\, Florida Atlantic Unive
 rsity)
DESCRIPTION:
CATEGORIES:Other
LOCATION:Seminar room 01.332\, Staudtstr. 7\, Erlangen \, 91058\, Germany
X-APPLE-STRUCTURED-LOCATION;VALUE=URI;X-ADDRESS=Staudtstr. 7\, Erlangen \, 
 91058\, Germany;X-APPLE-RADIUS=100;X-TITLE=Seminar room 01.332:geo:0,0
END:VEVENT
BEGIN:VTIMEZONE
TZID:Europe/Berlin
X-LIC-LOCATION:Europe/Berlin
BEGIN:DAYLIGHT
DTSTART:20230326T030000
TZOFFSETFROM:+0100
TZOFFSETTO:+0200
TZNAME:CEST
END:DAYLIGHT
END:VTIMEZONE
END:VCALENDAR