BEGIN:VCALENDAR
VERSION:2.0
PRODID:-//wp-events-plugin.com//7.2.3.1//EN
BEGIN:VEVENT
UID:73@gravity.physik.fau.de
DTSTART;TZID=Europe/Berlin:20231213T133000
DTEND;TZID=Europe/Berlin:20231213T150000
DTSTAMP:20231127T094919Z
URL:https://www.gravity.physik.fau.de/events/round-table-women-in-science-
 with-prof-maria-rentetzi/
SUMMARY:Round Table Women in Science with Prof Maria Rentetzi
DESCRIPTION:
CATEGORIES:Group Seminar
LOCATION:SR 02.729\, Staudtstraße 7/B2\, Erlangen\, 91058\, Germany
X-APPLE-STRUCTURED-LOCATION;VALUE=URI;X-ADDRESS=Staudtstraße 7/B2\, Erlang
 en\, 91058\, Germany;X-APPLE-RADIUS=100;X-TITLE=SR 02.729:geo:0,0
END:VEVENT
BEGIN:VTIMEZONE
TZID:Europe/Berlin
X-LIC-LOCATION:Europe/Berlin
BEGIN:STANDARD
DTSTART:20231029T020000
TZOFFSETFROM:+0200
TZOFFSETTO:+0100
TZNAME:CET
END:STANDARD
END:VTIMEZONE
END:VCALENDAR