BEGIN:VCALENDAR
VERSION:2.0
PRODID:-//wp-events-plugin.com//7.2.3.1//EN
BEGIN:VEVENT
UID:81@gravity.physik.fau.de
DTSTART;TZID=Europe/Berlin:20240424T141500
DTEND;TZID=Europe/Berlin:20240424T160000
DTSTAMP:20240423T102845Z
URL:https://www.gravity.physik.fau.de/events/semester-kick-off-loops-test-
 runs/
SUMMARY:Semester kick-off\, Loops test-runs
DESCRIPTION:\n 	News and announcements\n 	Jonas Neuser: Loops test-run\n 	R
 enata Ferrero: Loops test-run\n
CATEGORIES:Group Seminar,Other
LOCATION:SR 02.729\, Staudtstraße 7/B2\, Erlangen\, 91058\, Germany
X-APPLE-STRUCTURED-LOCATION;VALUE=URI;X-ADDRESS=Staudtstraße 7/B2\, Erlang
 en\, 91058\, Germany;X-APPLE-RADIUS=100;X-TITLE=SR 02.729:geo:0,0
END:VEVENT
BEGIN:VTIMEZONE
TZID:Europe/Berlin
X-LIC-LOCATION:Europe/Berlin
BEGIN:DAYLIGHT
DTSTART:20240331T030000
TZOFFSETFROM:+0100
TZOFFSETTO:+0200
TZNAME:CEST
END:DAYLIGHT
END:VTIMEZONE
END:VCALENDAR